BEGIN:VCALENDAR
VERSION:2.0
PRODID:-//Ukrainischer Kulturverein Kobsar - ECPv6.11.2.1//NONSGML v1.0//EN
CALSCALE:GREGORIAN
METHOD:PUBLISH
X-WR-CALNAME:Ukrainischer Kulturverein Kobsar
X-ORIGINAL-URL:https://kobsar-krefeld.de
X-WR-CALDESC:Veranstaltungen für Ukrainischer Kulturverein Kobsar
REFRESH-INTERVAL;VALUE=DURATION:PT1H
X-Robots-Tag:noindex
X-PUBLISHED-TTL:PT1H
BEGIN:VTIMEZONE
TZID:UTC
BEGIN:STANDARD
TZOFFSETFROM:+0000
TZOFFSETTO:+0000
TZNAME:UTC
DTSTART:20240101T000000
END:STANDARD
END:VTIMEZONE
BEGIN:VEVENT
DTSTART;TZID=UTC:20240903T170000
DTEND;TZID=UTC:20250128T170000
DTSTAMP:20260419T152417
CREATED:20240226T145330Z
LAST-MODIFIED:20240424T173731Z
UID:471-1725382800-1738083600@kobsar-krefeld.de
SUMMARY:Gesang und Theater für Kinder 6-11 J.
DESCRIPTION:Träumt dein Kind davon\, auf einen richtigen Bühne aufzutretten? In unserer Gesangs- und Theatergruppe für Kinder im Alter von 6 bis 11 Jahren werden Talente entfaltet! Wir bieten eine spielerische Umgebung\, in der die Kinder mehr über Musik erfahren\, singen\, schauspielern und an aufregenden Auftritten teilnehmen können. Lassen Sie Ihr Kind seine Bühnenpräsenz entfalten und sich in eine wahre Superstar verwandeln! Kontaktieren Sie uns jetzt für weitere Informationen und zur Anmeldung. \nWir freuen uns auf deine Teilnahme \nVorstand Kobsar \n  \n  \nKursleitung: Maryna Melnuychuk \nTermine: 32 \nEmpfohlene Spende: 80€ \nOrt: Vereinsheim am Südwall 38 \nWann: Dienstags 17:00 Uhr bis 18:00 Uhr \nBeginn: 03.09.2023 \nLetzter Termin: 28.01.2025 \nKontakt: Kurse@kobsar-krefeld.de
URL:https://kobsar-krefeld.de/event/gesang-und-theater-fuer-kinder-6-11-j/
LOCATION:Vereinsheim\, Südwall 38\, Krefeld\, NRW\, 47798\, Deutschland
ATTACH;FMTTYPE=image/jpeg:https://kobsar-krefeld.de/wp-content/uploads/2023/07/PHOTO-2023-07-24-19-01-26.jpg
ORGANIZER;CN="Kobsar Krefeld":MAILTO:Kurse@kobsar-krefeld.de
END:VEVENT
END:VCALENDAR